BEGIN:VCALENDAR
VERSION:2.0
PRODID:-//Freundeskreis zur F&ouml;rderung der Orgel- und Kammermusik e.V. - ECPv6.15.20//NONSGML v1.0//EN
CALSCALE:GREGORIAN
METHOD:PUBLISH
X-WR-CALNAME:Freundeskreis zur F&ouml;rderung der Orgel- und Kammermusik e.V.
X-ORIGINAL-URL:https://freundeskreis-orgel.de
X-WR-CALDESC:Veranstaltungen für Freundeskreis zur F&ouml;rderung der Orgel- und Kammermusik e.V.
REFRESH-INTERVAL;VALUE=DURATION:PT1H
X-Robots-Tag:noindex
X-PUBLISHED-TTL:PT1H
BEGIN:VTIMEZONE
TZID:Europe/Berlin
BEGIN:DAYLIGHT
TZOFFSETFROM:+0100
TZOFFSETTO:+0200
TZNAME:CEST
DTSTART:20250330T010000
END:DAYLIGHT
BEGIN:STANDARD
TZOFFSETFROM:+0200
TZOFFSETTO:+0100
TZNAME:CET
DTSTART:20251026T010000
END:STANDARD
BEGIN:DAYLIGHT
TZOFFSETFROM:+0100
TZOFFSETTO:+0200
TZNAME:CEST
DTSTART:20260329T010000
END:DAYLIGHT
BEGIN:STANDARD
TZOFFSETFROM:+0200
TZOFFSETTO:+0100
TZNAME:CET
DTSTART:20261025T010000
END:STANDARD
BEGIN:DAYLIGHT
TZOFFSETFROM:+0100
TZOFFSETTO:+0200
TZNAME:CEST
DTSTART:20270328T010000
END:DAYLIGHT
BEGIN:STANDARD
TZOFFSETFROM:+0200
TZOFFSETTO:+0100
TZNAME:CET
DTSTART:20271031T010000
END:STANDARD
END:VTIMEZONE
BEGIN:VEVENT
DTSTART;TZID=Europe/Berlin:20260510T180000
DTEND;TZID=Europe/Berlin:20260510T190000
DTSTAMP:20260421T143718
CREATED:20260328T135837Z
LAST-MODIFIED:20260328T135837Z
UID:329-1778436000-1778439600@freundeskreis-orgel.de
SUMMARY:Orgelkonzert
DESCRIPTION:St. Elisabeth Bochum-Gerthe\nSonntag\, 10.Mai 2026 /  18 Uhr\nan der Orgel: Franz Hauk (Ingolstadt)\n  \nProgramm unter: \nhttps://www.bochumer-orgelfestival.de/10-05-2026
URL:https://freundeskreis-orgel.de/event/orgelkonzert/
LOCATION:St. Elisabeth Bochum-Gerthe\, Hiltroper Landwehr 7A\, Bochum\, 44805\, Germany
END:VEVENT
END:VCALENDAR