BEGIN:VCALENDAR
VERSION:2.0
PRODID:-//Freundeskreis zur F&ouml;rderung der Orgel- und Kammermusik e.V. - ECPv6.15.20//NONSGML v1.0//EN
CALSCALE:GREGORIAN
METHOD:PUBLISH
X-ORIGINAL-URL:https://freundeskreis-orgel.de
X-WR-CALDESC:Veranstaltungen für Freundeskreis zur F&ouml;rderung der Orgel- und Kammermusik e.V.
REFRESH-INTERVAL;VALUE=DURATION:PT1H
X-Robots-Tag:noindex
X-PUBLISHED-TTL:PT1H
BEGIN:VTIMEZONE
TZID:Europe/Berlin
BEGIN:DAYLIGHT
TZOFFSETFROM:+0100
TZOFFSETTO:+0200
TZNAME:CEST
DTSTART:20250330T010000
END:DAYLIGHT
BEGIN:STANDARD
TZOFFSETFROM:+0200
TZOFFSETTO:+0100
TZNAME:CET
DTSTART:20251026T010000
END:STANDARD
BEGIN:DAYLIGHT
TZOFFSETFROM:+0100
TZOFFSETTO:+0200
TZNAME:CEST
DTSTART:20260329T010000
END:DAYLIGHT
BEGIN:STANDARD
TZOFFSETFROM:+0200
TZOFFSETTO:+0100
TZNAME:CET
DTSTART:20261025T010000
END:STANDARD
BEGIN:DAYLIGHT
TZOFFSETFROM:+0100
TZOFFSETTO:+0200
TZNAME:CEST
DTSTART:20270328T010000
END:DAYLIGHT
BEGIN:STANDARD
TZOFFSETFROM:+0200
TZOFFSETTO:+0100
TZNAME:CET
DTSTART:20271031T010000
END:STANDARD
END:VTIMEZONE
BEGIN:VEVENT
DTSTART;TZID=Europe/Berlin:20260406T180000
DTEND;TZID=Europe/Berlin:20260406T190000
DTSTAMP:20260421T132009
CREATED:20260328T132908Z
LAST-MODIFIED:20260328T133130Z
UID:317-1775498400-1775502000@freundeskreis-orgel.de
SUMMARY:Eröffnungskonzert Bochumer Orgelfestival 2026
DESCRIPTION:Friedenskirche Bochum-Wattenscheid\nOstermontag\, 06. April 2026 / 18:00 Uhr\nan der Muhleisen-Orgel: Arno Hartmann \nBACHpur\n  \nProgramm unter: \nhttps://www.bochumer-orgelfestival.de/06-04-2026
URL:https://freundeskreis-orgel.de/event/eroeffnungskonzert-bochumer-orgelfestival-2026/
LOCATION:Ev. Friedenskirche Bochum-Wattenscheid\, Hochstraße 2\, Bochum-Wattenscheid\, 44866\, Germany
END:VEVENT
END:VCALENDAR